BEGIN:VCALENDAR
VERSION:2.0
PRODID:-//Mafihe EHB - ECPv4.4.2//NONSGML v1.0//EN
CALSCALE:GREGORIAN
METHOD:PUBLISH
X-WR-CALNAME:Mafihe EHB
X-ORIGINAL-URL:http://eltehb.mafihe.hu
X-WR-CALDESC:Events for Mafihe EHB
BEGIN:VEVENT
DTSTART;VALUE=DATE:20151109
DTEND;VALUE=DATE:20151113
DTSTAMP:20260422T000825
CREATED:20151103T220448Z
LAST-MODIFIED:20151103T221508Z
UID:1431-1447041600-1447387199@eltehb.mafihe.hu
SUMMARY:TDK és Szakdolgozat Hét
DESCRIPTION:A rendszeres rendezvényünket\, melyet eddig TDK hétvégeként ismert a nagyközönség\, most új alapokra helyeztük. Mostantól a TDK és Szakdolgozat Hét\, egy hétfőtől csütörtökig tartó előadássorozat\, melyben TDK és Szakdolgozat témavezetők tartanak előadást\, témáikról.\n\nHa érdekel milyen egy kutatócsoport munkája\, ha szeretnéd kipróbálni magad egy kutatási területen\, ha kíváncsi vagy\, mi is az a TDK és hogyan épül fel\, akkor itt a helyed!\nIlletve ha végzős vagy és még mindig nem találtál szakdolgozatodhoz témát\, illetve témavezetőt\, gyere mert itt minden esélyed megvan rá\, hogy találni fogsz!\nVégül és nem utolsó sorban\, aki még nem szeretne TDK-zni de gondolkodik rajta\, és érdeklődik a téma iránt\, az se tervezzen mást erre a hétre.\n\nAz előadásokat a november 9-ikei héten hétfőtől csütörtökig\, este 6-tól 9-ig az Északi Épület 0.87-es Marx György termében. Gyertek el minél többen!\n\nItt az esemény Facebook oldala.
URL:http://eltehb.mafihe.hu/event/tdk-es-szakdolgozat-het/
LOCATION:Pázmány Péter sétány 1/A\, Budapest\, 1117\, Hungary
ORGANIZER;CN="Mafihe%20EHB":MAILTO:ehb-program@mafihe.hu
END:VEVENT
END:VCALENDAR