BEGIN:VCALENDAR
VERSION:2.0
PRODID:-//Mafihe EHB - ECPv4.4.2//NONSGML v1.0//EN
CALSCALE:GREGORIAN
METHOD:PUBLISH
X-WR-CALNAME:Mafihe EHB
X-ORIGINAL-URL:http://eltehb.mafihe.hu
X-WR-CALDESC:Events for Mafihe EHB
BEGIN:VEVENT
DTSTART;VALUE=DATE:20151106
DTEND;VALUE=DATE:20151108
DTSTAMP:20260421T224615
CREATED:20151021T130558Z
LAST-MODIFIED:20151103T221447Z
UID:1411-1446782400-1446955199@eltehb.mafihe.hu
SUMMARY:Szegedi hétvége
DESCRIPTION:Idén is megrendezésre kerül a Szegedi Hétvége! November 6-7-én pénteken és szombaton a Napfény Városában érdekes programokkal\, kikapcsolódással és új emberek megismerésének lehetőségével várunk minden érdeklődőt.\n\nSzállás november 6-7-én lesz\, az ára 1630 Ft/fő/éj (adókkal együtt). A szállás egy kollégiumban lesz\, ágyat és ágyneműt tudnak biztosítani. Itt találtok róla információt:http://mksh.u-szeged.hu/all-portfolio-list/turistaszallo/\n\nTovábbi információk\, és részletes programterv hamarosan.
URL:http://eltehb.mafihe.hu/event/szegedi-hetvege-2/
END:VEVENT
END:VCALENDAR