BEGIN:VCALENDAR
VERSION:2.0
PRODID:-//Mafihe EHB - ECPv4.4.2//NONSGML v1.0//EN
CALSCALE:GREGORIAN
METHOD:PUBLISH
X-WR-CALNAME:Mafihe EHB
X-ORIGINAL-URL:http://eltehb.mafihe.hu
X-WR-CALDESC:Events for Mafihe EHB
BEGIN:VEVENT
DTSTART;TZID=Europe/Budapest:20150521T150000
DTEND;TZID=Europe/Budapest:20150521T160000
DTSTAMP:20260422T114615
CREATED:20150210T164849Z
LAST-MODIFIED:20150417T160057Z
UID:868-1432220400-1432224000@eltehb.mafihe.hu
SUMMARY:Ortvay Kollokvium: Andreas Ringwald
DESCRIPTION:Andreas Ringwald (Deutsches Elektronen-Synchrotron\, Hamburg\, DE)\n /Marx Memorial Lecture/\n\nExploring the Role of Axions and Other Ultralight Particles in the Dark Universe\n\nMany theoretically well-motivated extensions of the standard model of particle physics  predict the existence of very weakly interacting slim (in the sense of ultralight) particles (WISPs)\,  such as the axion. WISPs may constitute the mysterious dark matter in the universe and solve some puzzles in stellar and high-energy astrophysics. There are new\, relatively small  experiments around the globe\, which started to hunt for these elusive particles and complement the search for physics beyond the standard model at the Large Hadron Collider.\n\nTovábbi információ: https://fizika.elte.hu/hu/index.php?page=ajanlat&id=140
URL:http://eltehb.mafihe.hu/event/ortvay-kollokvium-andreas-ringwald/
LOCATION:Pázmány Péter sétány 1/A\, Budapest\, 1117\, Hungary
END:VEVENT
END:VCALENDAR