BEGIN:VCALENDAR
VERSION:2.0
PRODID:-//Mafihe EHB - ECPv4.4.2//NONSGML v1.0//EN
CALSCALE:GREGORIAN
METHOD:PUBLISH
X-WR-CALNAME:Mafihe EHB
X-ORIGINAL-URL:http://eltehb.mafihe.hu
X-WR-CALDESC:Events for Mafihe EHB
BEGIN:VEVENT
DTSTART;TZID=Europe/Budapest:20150423T150000
DTEND;TZID=Europe/Budapest:20150423T160000
DTSTAMP:20260422T101614
CREATED:20150210T164506Z
LAST-MODIFIED:20150417T155853Z
UID:864-1429801200-1429804800@eltehb.mafihe.hu
SUMMARY:Ortvay Kollokvium: Hartmann Péter
DESCRIPTION:Hartmann Péter (MTA WIGNER FK SZFI\, Komplex Folyadékok Osztálya)\nPlasztikus deformációk és poros plazmák\n\nPoros plazmák\, vagyis alacsony nyomású gázkisülésekben lebegő\, elektromosan töltött mikron méretű szemcsékből álló felhők meglepő tulajdonségokkal bírhatnak. A kísérlet körülményeit gondosan megválasztva a porszemcsék egy vízszintes sík rétegbe rendeződve kristályos rendbe állhatnak be. A porszemcsék kollektív jellemzőit a köztük ható jelentős Coulomb taszítás dominálja. A szemcsék mozgását egyszerű módszerekkel térben is időben egyaránt fel tudjuk bontani\, ezáltal részecske szinten tudunk erősen kölcsönható (csatolt) sokrészecske rendszereket kísérletileg modellezni. Előadásomban a legutóbbi\, a lassú plasztikus deformáció vizsgálata során elért eredményeket mutatom be [1]. Ebben a kutatásban egyrétegű\, krisztályos állapotú porfelhőt állítottunk elő\, amelyben egy lézerforrás síkra kitágított\, majd egy lineáris gradiens szűrővel modulált nyalábjával keltettünk homogén nyírást. A lassú deformáció során megfigyelve a rácshibák (elsősorban diszlokációk) dinamikáját a következő megfigyeléseket tettük: (i) a mechanikai feszültség hatására kristálydomének belsejében ellentétes Burgers-vektorú diszlokációpárok keletkeznek\, (ii) a keltett diszlokációk (időszakosan szuperszonikus sebességgel) glide (csúszó) mozgást végeznek\, (iii) ezen mobilis diszlokációk a kisszögű doménfalakba ütközve annihilálódnak.\n \n[1] H P\, Kovács A Zs\, Douglass A M\, Reyes J C\, Matthews L S\, Hyde T W; “Slow Plastic Creep of 2D Dusty Plasma Solids”; Phys. Rev. Lett. 113\, 025002 (2014)\n\nTovábbi információ: https://fizika.elte.hu/hu/index.php?page=ajanlat&id=140
URL:http://eltehb.mafihe.hu/event/ortvay-kollokvium-7/
LOCATION:Pázmány Péter sétány 1/A\, Budapest\, 1117\, Hungary
END:VEVENT
END:VCALENDAR