BEGIN:VCALENDAR
VERSION:2.0
PRODID:-//Mafihe EHB - ECPv4.4.2//NONSGML v1.0//EN
CALSCALE:GREGORIAN
METHOD:PUBLISH
X-WR-CALNAME:Mafihe EHB
X-ORIGINAL-URL:http://eltehb.mafihe.hu
X-WR-CALDESC:Events for Mafihe EHB
BEGIN:VEVENT
DTSTART;TZID=Europe/Budapest:20161126T100000
DTEND;TZID=Europe/Budapest:20161126T170000
DTSTAMP:20260425T101756
CREATED:20161118T181111Z
LAST-MODIFIED:20161118T181111Z
UID:1962-1480154400-1480179600@eltehb.mafihe.hu
SUMMARY:Mafihe Országos Előadói Verseny
DESCRIPTION:Idén újra megrendezésre kerül a MOEV! November 26-án szombaton 10:00-kor mérkőzhettek meg a háromtagú zsűri előtt\, hogy ki a legjobb előadó.\n\nVan kutatási témád? Vagy van egy érdekes fizikai témakör\, amelyet szívesen kifejtenél nekünk? Itt a lehetőség! Bármilyen témával jelentkezhettek\, a lényeg\, hogy a rendelkezésre álló 15 percben nyűgözzétek le a közönséget és a zsűrit\, akik az értékelés során nem az előadás szakmai minőségét\, hanem az előadói képességeket veszik figyelembe. Gyertek el minél többen!\n\nA verseny nyertese értékes nyereményekkel gazdagodik!!\n\n\nElőadónak jelentkezni itt lehet: https://goo.gl/forms/T1DuQt6BOgeuTHJF3\nHelyszín: ELTE Lágymányosi Campus Északi Épület\nBudapest Pázmány Péter sétány 1/A.
URL:http://eltehb.mafihe.hu/event/mafihe-orszagos-eloadoi-verseny/
LOCATION:Pázmány Péter sétány 1/A\, Budapest\, Pest\, Magyarország
END:VEVENT
END:VCALENDAR