BEGIN:VCALENDAR
VERSION:2.0
PRODID:-//Mafihe EHB - ECPv4.4.2//NONSGML v1.0//EN
CALSCALE:GREGORIAN
METHOD:PUBLISH
X-WR-CALNAME:Mafihe EHB
X-ORIGINAL-URL:http://eltehb.mafihe.hu
X-WR-CALDESC:Events for Mafihe EHB
BEGIN:VEVENT
DTSTART;VALUE=DATE:20160203
DTEND;VALUE=DATE:20160208
DTSTAMP:20260421T195615
CREATED:20151130T062006Z
LAST-MODIFIED:20160227T122906Z
UID:1494-1454472000-1454903999@eltehb.mafihe.hu
SUMMARY:Mafihe - CERN Kirándulás
DESCRIPTION:Idén a Mafihe ismét megrendezi a CERN kirándulást. Az előző évekhez hasonlóan az idei utazás során is meglátogatjuk Lausanne-ban\, az EPFL egyetemen található fúziós laborokat\, Grenoble-ban az ILL kutatóintézetet és végül a CERN egyik központját\, illetve egyes mérőállomásait is. Minden érdeklődőt szeretettel várunk a kiránduláson!\n\nKirándulás adatai:\n\n\tUtazás módja: busz.\n\tIdőpont: 2016.02.03-tól 07.-ig (ebből 2 napot a buszút tesz ki).\n\nRészvételi díj:\n\n\tMafihe tagoknak: 30000Ft\,\n\tKülsős érdeklődőknek: 45000Ft.\n\nJelentkezési felület: ITT\nJelentkezési határidő: 2015. december 13.\nHonlap: http://cern.mafihe.hu/\n\nBármi kérdés merülne fel a kirándulással kapcsolatban bátran írjatok a cern@mafihe.hu címre!
URL:http://eltehb.mafihe.hu/event/mafihe-cern-kirandulas/
ORGANIZER;CN="Mafihe":MAILTO:program@mafihe.hu
END:VEVENT
END:VCALENDAR