BEGIN:VCALENDAR
VERSION:2.0
PRODID:-//Mafihe EHB - ECPv4.4.2//NONSGML v1.0//EN
CALSCALE:GREGORIAN
METHOD:PUBLISH
X-WR-CALNAME:Mafihe EHB
X-ORIGINAL-URL:http://eltehb.mafihe.hu
X-WR-CALDESC:Events for Mafihe EHB
BEGIN:VEVENT
DTSTART;TZID=Europe/Budapest:20150924T180000
DTEND;TZID=Europe/Budapest:20150925T080000
DTSTAMP:20260422T031359
CREATED:20150924T094328Z
LAST-MODIFIED:20150924T100415Z
UID:1249-1443117600-1443168000@eltehb.mafihe.hu
SUMMARY:Fiziqs 'SKÜ
DESCRIPTION:Idén is sor kerül az elsőévesek fizikussá fogadására\, azaz a 'SKÜ-re!\nA program két részből áll:\n\n\t18:00 - 23:00: Fizikussá avatás\nGyülekezés 18 órakor a Kémia porta előtt. Ekkor kezdetét veszi az egyetem területén az autentikus esemény\, mely az ünnepélyes eskütétellel fog zárulni.\n\t23:00 - 08:00: Túra\nAz avatást egy egész éjszakás túra követi\, mely opcionális\, de életre szóló élmény! Zseblámpát hozni vagy a táskából elővenni tilos\, a hold fénye fogja majd utunkat világítani. Reggel pedig együtt érkezünk meg az első órákra.\n\nSzeretettel várunk minden gólyát és érdeklődő felsőbbévest!\n\nAz esemény Facebook oldala.
URL:http://eltehb.mafihe.hu/event/fiziqs-sku/
LOCATION:Pázmány Péter sétány 1/A\, Budapest\, 1117\, Hungary
ORGANIZER;CN="Mafihe%20EHB":MAILTO:ehb-program@mafihe.hu
END:VEVENT
END:VCALENDAR