BEGIN:VCALENDAR
VERSION:2.0
PRODID:-//Mafihe EHB - ECPv4.4.2//NONSGML v1.0//EN
CALSCALE:GREGORIAN
METHOD:PUBLISH
X-WR-CALNAME:Mafihe EHB
X-ORIGINAL-URL:http://eltehb.mafihe.hu
X-WR-CALDESC:Events for Mafihe EHB
BEGIN:VEVENT
DTSTART;TZID=Europe/Budapest:20161015T120000
DTEND;TZID=Europe/Budapest:20161015T200000
DTSTAMP:20260422T000220
CREATED:20161006T164647Z
LAST-MODIFIED:20161006T164647Z
UID:1901-1476532800-1476561600@eltehb.mafihe.hu
SUMMARY:Fiziqs Foci
DESCRIPTION:Idén ősszel is megrendezzük\, immár hetedik alkalommal a Fiziqs Focit. A helyszín foglalása még folyamatban van\, amint megvan\, értesítünk Benneteket. Ami már fix\, az az időpont: 2016. október 15. 12:00-20:00.\n\n4+1 fős csapatok jelentkezését várjuk\, de ha nincs csapatod\, az sem baj! A magányos farkasokból a helyszínen verbuválunk csapatot\, így mindenkinek jut játékidő.\nEgyetlen kitétel a csapatoknál\, hogy a játékosok minimum 50%-a legyen ELTE-s.\n\nJelentkezés október 1. - október 14. között ezen a felületen:\nhttp://my.mafihe.hu/fiziqs-foci/\n\nA nevezési díj:\n500 Ft/csapat\n100 Ft/magányos farkas\n(a nevezési díjakat a helyszínen kell befizetni.)\n\nSzeretettel\, zsíroskenyérrel és fröccsel várunk minden kedves érdeklődőt! Gyertek el és buzdítsátok a csapatokat!
URL:http://eltehb.mafihe.hu/event/fiziqs-foci-4/
ORGANIZER;CN="Mafihe%20EHB":MAILTO:ehb-program@mafihe.hu
END:VEVENT
END:VCALENDAR