BEGIN:VCALENDAR
VERSION:2.0
PRODID:-//Mafihe EHB - ECPv4.4.2//NONSGML v1.0//EN
CALSCALE:GREGORIAN
METHOD:PUBLISH
X-WR-CALNAME:Mafihe EHB
X-ORIGINAL-URL:http://eltehb.mafihe.hu
X-WR-CALDESC:Events for Mafihe EHB
BEGIN:VEVENT
DTSTART;TZID=Europe/Budapest:20160430T120000
DTEND;TZID=Europe/Budapest:20160430T200000
DTSTAMP:20260421T224435
CREATED:20160413T141826Z
LAST-MODIFIED:20160413T141826Z
UID:1795-1462017600-1462046400@eltehb.mafihe.hu
SUMMARY:Fiziqs Foci
DESCRIPTION:Gyere el\, tájékozódj a képviselőjelöltekről és az elnökjelölt programjáról!\n\nIdén tavasszal is megrendezzük\, immár hatodik alkalommal a Fiziqs Focit. Ezúttal a Kőrösi Csoma Sándor Kollégium műfüves futballpályáján kerül sor a kupa lebonyolítására.\nAz időpont április 30. 12:00-20:00.\n\n4+1 fős csapatok jelentkezését várjuk\, de ha nincs csapatod\, az sem baj! A magányos farkasokból a helyszínen verbuválunk csapatot\, így mindenkinek jut játékidő.\nEgyetlen kitétel a csapatoknál\, hogy a játékosok minimum 50%-a legyen ELTE-s.\n\nJelentkezés április 11. - április 28. között ezen a felületen:\nhttp://my.mafihe.hu/fiziqs-foci/\n\nA nevezési díj 300 Ft/fő.\n\nAz online jelentkezés után a csapatoknak április 28. (szerda) 18:30-ig van lehetőségük véglegesíteni a jelentkezést a nevezési díj befizetésével a Mafihe irodában. (Északi Tömb 2.106-os terem)\n\nSzeretettel\, zsíroskenyérrel és fröccsel várunk minden kedves érdeklődőt! Gyertek el és buzdítsátok a csapatokat!
URL:http://eltehb.mafihe.hu/event/fiziqs-foci-3/
LOCATION:Dayka Gábor utca 4.\, Budapest\, 1118\, Hungary
ORGANIZER;CN="Mafihe%20EHB":MAILTO:ehb-program@mafihe.hu
END:VEVENT
END:VCALENDAR