BEGIN:VCALENDAR
VERSION:2.0
PRODID:-//Mafihe EHB - ECPv4.4.2//NONSGML v1.0//EN
CALSCALE:GREGORIAN
METHOD:PUBLISH
X-WR-CALNAME:Mafihe EHB
X-ORIGINAL-URL:http://eltehb.mafihe.hu
X-WR-CALDESC:Events for Mafihe EHB
BEGIN:VEVENT
DTSTART;VALUE=DATE:20160416
DTEND;VALUE=DATE:20160417
DTSTAMP:20260422T001517
CREATED:20160413T142141Z
LAST-MODIFIED:20160413T142141Z
UID:1798-1460779200-1460865599@eltehb.mafihe.hu
SUMMARY:45. avagy Sportos Tor-túra
DESCRIPTION:Eszement hegymenet\, melyben emberseregek terepen vetekednek...\n\nTúracipőt elő! Vesztegetést betölteni! Kreativitást beizzítani! Elindult a jelentkezés\, jelentkezzetek!\nElőzetes nevezés az orangyal45@gmail.com címen.\n\nBővebb információt facebookon vagy a hivatalos oldalon találhattok.
URL:http://eltehb.mafihe.hu/event/45-avagy-sportos-tor-tura/
END:VEVENT
END:VCALENDAR